BEGIN:VCALENDAR
VERSION:2.0
PRODID:SchoolNow
CALSCALE:GREGORIAN
BEGIN:VEVENT
UID:8e31d916-d9e9-11ef-b22d-0a58a9feac02
DTSTAMP:20250124T002420Z
SUMMARY:Tennis (Girls V/JV) - Rensselaer Central High School
LOCATION:Lowell Senior High School
URL;VALUE=URI:https://www.tricreek.k12.in.us/lhs/calendar/7360822/tennis-gi
 rls-v-jv-rensselaer-central-high-school
DTSTART:20250410T220003Z
DTEND:20250411T000003Z
END:VEVENT
END:VCALENDAR
