BEGIN:VCALENDAR
VERSION:2.0
PRODID:SchoolNow
CALSCALE:GREGORIAN
BEGIN:VEVENT
UID:8e31d9e8-d9e9-11ef-8027-0a58a9feac02
DTSTAMP:20250124T002420Z
SUMMARY:Tennis (Girls V/JV) - Illiana Christian High School
LOCATION:Illiana Christian High School
URL;VALUE=URI:https://www.tricreek.k12.in.us/lhs/calendar/7360823/tennis-gi
 rls-v-jv-illiana-christian-high-school
DTSTART:20250506T213027Z
DTEND:20250506T233027Z
END:VEVENT
END:VCALENDAR
