BEGIN:VCALENDAR
VERSION:2.0
PRODID:SchoolNow
CALSCALE:GREGORIAN
BEGIN:VEVENT
UID:8e31dac4-d9e9-11ef-9006-0a58a9feac02
DTSTAMP:20250124T002420Z
SUMMARY:Tennis (Girls V/JV) - Hobart High School
LOCATION:Lowell Senior High School
URL;VALUE=URI:https://www.tricreek.k12.in.us/lhs/calendar/7360824/tennis-gi
 rls-v-jv-hobart-high-school
DTSTART:20250422T213028Z
DTEND:20250422T233028Z
END:VEVENT
END:VCALENDAR
