BEGIN:VCALENDAR
VERSION:2.0
PRODID:SchoolNow
CALSCALE:GREGORIAN
BEGIN:VEVENT
UID:8e31db96-d9e9-11ef-85a2-0a58a9feac02
DTSTAMP:20250124T002420Z
SUMMARY:Tennis (Girls V/JV) @ Whiting High School
LOCATION:Whiting High School
URL;VALUE=URI:https://www.tricreek.k12.in.us/lhs/calendar/7360825/tennis-gi
 rls-v-jv-whiting-high-school
DTSTART:20250423T214500Z
DTEND:20250423T234500Z
END:VEVENT
END:VCALENDAR
