BEGIN:VCALENDAR
VERSION:2.0
PRODID:SchoolNow
CALSCALE:GREGORIAN
BEGIN:VEVENT
UID:8e31dc68-d9e9-11ef-8b8d-0a58a9feac02
DTSTAMP:20250124T002420Z
SUMMARY:Tennis (Girls V/JV) - Kankakee Valley High School
LOCATION:Lowell Senior High School
URL;VALUE=URI:https://www.tricreek.k12.in.us/lhs/calendar/7360826/tennis-gi
 rls-v-jv-kankakee-valley-high-school
DTSTART:20250501T214500Z
DTEND:20250501T234500Z
END:VEVENT
END:VCALENDAR
