BEGIN:VCALENDAR
VERSION:2.0
PRODID:SchoolNow
CALSCALE:GREGORIAN
BEGIN:VEVENT
UID:8e31dd3a-d9e9-11ef-970a-0a58a9feac02
DTSTAMP:20250124T002420Z
SUMMARY:Tennis (Girls V/JV) @ IHSAA Sectional
LOCATION:Crown Point High School
URL;VALUE=URI:https://www.tricreek.k12.in.us/lhs/calendar/7360827/tennis-gi
 rls-v-jv-ihsaa-sectional
DTSTART:20250521T211500Z
DTEND:20250521T231500Z
END:VEVENT
END:VCALENDAR
