BEGIN:VCALENDAR
VERSION:2.0
PRODID:SchoolNow
CALSCALE:GREGORIAN
BEGIN:VEVENT
UID:8e31de0c-d9e9-11ef-9cef-0a58a9feac02
DTSTAMP:20250124T002420Z
SUMMARY:Tennis (Girls V/JV) - Hanover Central Jr-Sr High School
LOCATION:Lowell Senior High School
URL;VALUE=URI:https://www.tricreek.k12.in.us/lhs/calendar/7360828/tennis-gi
 rls-v-jv-hanover-central-jr-sr-high-school
DTSTART:20250515T213000Z
DTEND:20250515T233000Z
END:VEVENT
END:VCALENDAR
