BEGIN:VCALENDAR
VERSION:2.0
PRODID:SchoolNow
CALSCALE:GREGORIAN
BEGIN:VEVENT
UID:8e31df2e-d9e9-11ef-b1df-0a58a9feac02
DTSTAMP:20250124T002420Z
SUMMARY:Tennis (Girls V/JV) - Lake Central High School
LOCATION:Lowell Senior High School
URL;VALUE=URI:https://www.tricreek.k12.in.us/lhs/calendar/7360829/tennis-gi
 rls-v-jv-lake-central-high-school
DTSTART:20250415T213000Z
DTEND:20250415T233000Z
END:VEVENT
END:VCALENDAR
