BEGIN:VCALENDAR
VERSION:2.0
PRODID:SchoolNow
CALSCALE:GREGORIAN
BEGIN:VEVENT
UID:8e31e000-d9e9-11ef-a880-0a58a9feac02
DTSTAMP:20250124T002420Z
SUMMARY:Tennis (Girls V/JV) @ South County Invite
LOCATION:Hanover Central High School
URL;VALUE=URI:https://www.tricreek.k12.in.us/lhs/calendar/7360830/tennis-gi
 rls-v-jv-south-county-invite
DTSTART:20250426T140000Z
DTEND:20250426T160000Z
END:VEVENT
END:VCALENDAR
