BEGIN:VCALENDAR
VERSION:2.0
PRODID:SchoolNow
CALSCALE:GREGORIAN
BEGIN:VEVENT
UID:8e31e0d2-d9e9-11ef-81aa-0a58a9feac02
DTSTAMP:20250124T002420Z
SUMMARY:Tennis (Girls V/JV) @ Hobart High School
LOCATION:Hobart High School
URL;VALUE=URI:https://www.tricreek.k12.in.us/lhs/calendar/7360831/tennis-gi
 rls-v-jv-hobart-high-school
DTSTART:20250422T213000Z
DTEND:20250422T233000Z
END:VEVENT
END:VCALENDAR
