BEGIN:VCALENDAR
VERSION:2.0
PRODID:SchoolNow
CALSCALE:GREGORIAN
BEGIN:VEVENT
UID:8e31e1ae-d9e9-11ef-9c70-0a58a9feac02
DTSTAMP:20250124T002420Z
SUMMARY:Swimming (Girls V/JV) @ Tri-Meet (KV/LHS/HOB)
LOCATION:Hobart High School
URL;VALUE=URI:https://www.tricreek.k12.in.us/lhs/calendar/7360832/swimming-
 girls-v-jv-tri-meet-kv-lhs-hob
DTSTART:20251203T000000Z
DTEND:20251203T020000Z
END:VEVENT
END:VCALENDAR
