BEGIN:VCALENDAR
VERSION:2.0
PRODID:SchoolNow
CALSCALE:GREGORIAN
BEGIN:VEVENT
UID:8e32143a-d9e9-11ef-ad9f-0a58a9feac02
DTSTAMP:20250124T002420Z
SUMMARY:CANCELED - Swimming (Girls V/JV) - Morton/North Newton Tri Meet
LOCATION:Lowell Senior High School
URL;VALUE=URI:https://www.tricreek.k12.in.us/lhs/calendar/7360834/canceled-
 swimming-girls-v-jv-morton-north-newton-tri-meet
DTSTART:20250116T233000Z
DTEND:20250117T013000Z
END:VEVENT
END:VCALENDAR
