BEGIN:VCALENDAR
VERSION:2.0
PRODID:SchoolNow
CALSCALE:GREGORIAN
BEGIN:VEVENT
UID:8e321548-d9e9-11ef-8c8a-0a58a9feac02
DTSTAMP:20250124T002420Z
SUMMARY:Swimming (Girls V/JV) - LaPorte High School
LOCATION:Lowell Senior High School
URL;VALUE=URI:https://www.tricreek.k12.in.us/lhs/calendar/7360835/swimming-
 girls-v-jv-laporte-high-school
DTSTART:20241207T150000Z
DTEND:20241207T170000Z
END:VEVENT
END:VCALENDAR
