BEGIN:VCALENDAR
VERSION:2.0
PRODID:SchoolNow
CALSCALE:GREGORIAN
BEGIN:VEVENT
UID:8e32164c-d9e9-11ef-acf9-0a58a9feac02
DTSTAMP:20250124T002420Z
SUMMARY:Swimming (Girls V/JV) @ IHSAA Sectionals
LOCATION:Lake Central High School
URL;VALUE=URI:https://www.tricreek.k12.in.us/lhs/calendar/7360836/swimming-
 girls-v-jv-ihsaa-sectionals
DTSTART:20250208T190000Z
DTEND:20250208T210000Z
END:VEVENT
END:VCALENDAR
