BEGIN:VCALENDAR
VERSION:2.0
PRODID:SchoolNow
CALSCALE:GREGORIAN
BEGIN:VEVENT
UID:8e32173c-d9e9-11ef-b133-0a58a9feac02
DTSTAMP:20250124T002420Z
SUMMARY:Swimming (Girls V/JV) @ Tri-Meet (HIGH/LHS/HOB)
LOCATION:Hobart High School
URL;VALUE=URI:https://www.tricreek.k12.in.us/lhs/calendar/7360837/swimming-
 girls-v-jv-tri-meet-high-lhs-hob
DTSTART:20250115T000000Z
DTEND:20250115T020000Z
END:VEVENT
END:VCALENDAR
