BEGIN:VCALENDAR
VERSION:2.0
PRODID:SchoolNow
CALSCALE:GREGORIAN
BEGIN:VEVENT
UID:8e321818-d9e9-11ef-961e-0a58a9feac02
DTSTAMP:20250124T002420Z
SUMMARY:Swimming (Girls V/JV) @ Rensselaer Central High School (Varsity)
LOCATION:Rensselaer Central High School
URL;VALUE=URI:https://www.tricreek.k12.in.us/lhs/calendar/7360838/swimming-
 girls-v-jv-rensselaer-central-high-school-varsity
DTSTART:20250130T233000Z
DTEND:20250131T013000Z
END:VEVENT
END:VCALENDAR
