BEGIN:VCALENDAR
VERSION:2.0
PRODID:SchoolNow
CALSCALE:GREGORIAN
BEGIN:VEVENT
UID:8e32196c-d9e9-11ef-abf1-0a58a9feac02
DTSTAMP:20250124T002420Z
SUMMARY:Swimming (Girls V/JV) - Culver Academies
LOCATION:Lowell Senior High School
URL;VALUE=URI:https://www.tricreek.k12.in.us/lhs/calendar/7360839/swimming-
 girls-v-jv-culver-academies
DTSTART:20251218T233000Z
DTEND:20251219T013000Z
END:VEVENT
END:VCALENDAR
