BEGIN:VCALENDAR
VERSION:2.0
PRODID:SchoolNow
CALSCALE:GREGORIAN
BEGIN:VEVENT
UID:8e321a52-d9e9-11ef-ad58-0a58a9feac02
DTSTAMP:20250124T002420Z
SUMMARY:Swimming (Girls V/JV) - Knox Community High School
LOCATION:Lowell Senior High School
URL;VALUE=URI:https://www.tricreek.k12.in.us/lhs/calendar/7360840/swimming-
 girls-v-jv-knox-community-high-school
DTSTART:20260120T233000Z
DTEND:20260121T013000Z
END:VEVENT
END:VCALENDAR
