BEGIN:VCALENDAR
VERSION:2.0
PRODID:SchoolNow
CALSCALE:GREGORIAN
BEGIN:VEVENT
UID:8e321b38-d9e9-11ef-a4f7-0a58a9feac02
DTSTAMP:20250124T002420Z
SUMMARY:Swimming (Girls V/JV) @ IHSAA Sectional Prelims
LOCATION:Lake Central High School
URL;VALUE=URI:https://www.tricreek.k12.in.us/lhs/calendar/7360841/swimming-
 girls-v-jv-ihsaa-sectional-prelims
DTSTART:20250206T230000Z
DTEND:20250207T010000Z
END:VEVENT
END:VCALENDAR
