BEGIN:VCALENDAR
VERSION:2.0
PRODID:SchoolNow
CALSCALE:GREGORIAN
BEGIN:VEVENT
UID:8e321c14-d9e9-11ef-9985-0a58a9feac02
DTSTAMP:20250124T002420Z
SUMMARY:Swimming (Girls V/JV) - Wheeler High School
LOCATION:Lowell Senior High School
URL;VALUE=URI:https://www.tricreek.k12.in.us/lhs/calendar/7360842/swimming-
 girls-v-jv-wheeler-high-school
DTSTART:20251211T233000Z
DTEND:20251212T013000Z
END:VEVENT
END:VCALENDAR
