BEGIN:VCALENDAR
VERSION:2.0
PRODID:SchoolNow
CALSCALE:GREGORIAN
BEGIN:VEVENT
UID:8e321dc2-d9e9-11ef-9d55-0a58a9feac02
DTSTAMP:20250124T002420Z
SUMMARY:Swimming (Girls V/JV) @ Crown Point High School
LOCATION:Crown Point High School
URL;VALUE=URI:https://www.tricreek.k12.in.us/lhs/calendar/7360844/swimming-
 girls-v-jv-crown-point-high-school
DTSTART:20250123T233000Z
DTEND:20250124T013000Z
END:VEVENT
END:VCALENDAR
