BEGIN:VCALENDAR
VERSION:2.0
PRODID:SchoolNow
CALSCALE:GREGORIAN
BEGIN:VEVENT
UID:8e321e9e-d9e9-11ef-8680-0a58a9feac02
DTSTAMP:20250124T002420Z
SUMMARY:Swimming (Girls V/JV) @ JV Championship
LOCATION:Munster High School
URL;VALUE=URI:https://www.tricreek.k12.in.us/lhs/calendar/7360845/swimming-
 girls-v-jv-jv-championship
DTSTART:20250206T000000Z
DTEND:20250206T020000Z
END:VEVENT
END:VCALENDAR
