BEGIN:VCALENDAR
VERSION:2.0
PRODID:SchoolNow
CALSCALE:GREGORIAN
BEGIN:VEVENT
UID:8e321f7a-d9e9-11ef-9640-0a58a9feac02
DTSTAMP:20250124T002420Z
SUMMARY:Swimming (Girls V/JV) @ NCC Meet
LOCATION:Hobart High School
URL;VALUE=URI:https://www.tricreek.k12.in.us/lhs/calendar/7360846/swimming-
 girls-v-jv-ncc-meet
DTSTART:20250125T150000Z
DTEND:20250125T170000Z
END:VEVENT
END:VCALENDAR
