BEGIN:VCALENDAR
VERSION:2.0
PRODID:SchoolNow
CALSCALE:GREGORIAN
BEGIN:VEVENT
UID:8e32204c-d9e9-11ef-8309-0a58a9feac02
DTSTAMP:20250124T002420Z
SUMMARY:Swimming (Girls V/JV) @ Tri-Meet (MERV/VALPO)
LOCATION:Valparaiso High School
URL;VALUE=URI:https://www.tricreek.k12.in.us/lhs/calendar/7360847/swimming-
 girls-v-jv-tri-meet-merv-valpo
DTSTART:20250109T233000Z
DTEND:20250110T013000Z
END:VEVENT
END:VCALENDAR
