BEGIN:VCALENDAR
VERSION:2.0
PRODID:SchoolNow
CALSCALE:GREGORIAN
BEGIN:VEVENT
UID:8e3221fa-d9e9-11ef-805a-0a58a9feac02
DTSTAMP:20250124T002420Z
SUMMARY:Swimming (Girls V/JV) @ William Henry Harrison High School - West L
 afayette
LOCATION:William Henry Harrison High School - West Lafayette
URL;VALUE=URI:https://www.tricreek.k12.in.us/lhs/calendar/7360849/swimming-
 girls-v-jv-william-henry-harrison-high-school-west-lafayette
DTSTART:20251118T233000Z
DTEND:20251119T013000Z
END:VEVENT
END:VCALENDAR
