BEGIN:VCALENDAR
VERSION:2.0
PRODID:SchoolNow
CALSCALE:GREGORIAN
BEGIN:VEVENT
UID:8e32239e-d9e9-11ef-b47a-0a58a9feac02
DTSTAMP:20250124T002420Z
SUMMARY:CANCELED - Swimming (Girls V/JV) - William Henry Harrison High Scho
 ol - West Lafayette
LOCATION:Lowell Senior High School
URL;VALUE=URI:https://www.tricreek.k12.in.us/lhs/calendar/7360851/canceled-
 swimming-girls-v-jv-william-henry-harrison-high-school-west-lafayette
DTSTART:20241119T230000Z
DTEND:20241120T010000Z
END:VEVENT
END:VCALENDAR
