BEGIN:VCALENDAR
VERSION:2.0
PRODID:SchoolNow
CALSCALE:GREGORIAN
BEGIN:VEVENT
UID:8e3224ac-d9e9-11ef-a16d-0a58a9feac02
DTSTAMP:20250124T002420Z
SUMMARY:Swimming (Girls V/JV) - Crown Point High School
LOCATION:Lowell Senior High School
URL;VALUE=URI:https://www.tricreek.k12.in.us/lhs/calendar/7360852/swimming-
 girls-v-jv-crown-point-high-school
DTSTART:20260122T233000Z
DTEND:20260123T013000Z
END:VEVENT
END:VCALENDAR
