BEGIN:VCALENDAR
VERSION:2.0
PRODID:SchoolNow
CALSCALE:GREGORIAN
BEGIN:VEVENT
UID:8e322650-d9e9-11ef-a472-0a58a9feac02
DTSTAMP:20250124T002420Z
SUMMARY:CANCELED - Swimming (Girls V/JV) - North Newton Jr-Sr High School
LOCATION:Lowell Senior High School
URL;VALUE=URI:https://www.tricreek.k12.in.us/lhs/calendar/7360854/canceled-
 swimming-girls-v-jv-north-newton-jr-sr-high-school
DTSTART:20250120T233034Z
DTEND:20250121T013034Z
END:VEVENT
END:VCALENDAR
