BEGIN:VCALENDAR
VERSION:2.0
PRODID:SchoolNow
CALSCALE:GREGORIAN
BEGIN:VEVENT
UID:8e32281c-d9e9-11ef-bf95-0a58a9feac02
DTSTAMP:20250124T002420Z
SUMMARY:Swimming (Girls V/JV) @ LaPorte High School
LOCATION:Calumet High School
URL;VALUE=URI:https://www.tricreek.k12.in.us/lhs/calendar/7360856/swimming-
 girls-v-jv-laporte-high-school
DTSTART:20251206T150000Z
DTEND:20251206T170000Z
END:VEVENT
END:VCALENDAR
