BEGIN:VCALENDAR
VERSION:2.0
PRODID:SchoolNow
CALSCALE:GREGORIAN
BEGIN:VEVENT
UID:8e3228ee-d9e9-11ef-b158-0a58a9feac02
DTSTAMP:20250124T002420Z
SUMMARY:Swimming (Girls V/JV) @ Tri-Meet (MUN/LHS/HOB)
LOCATION:Hobart High School
URL;VALUE=URI:https://www.tricreek.k12.in.us/lhs/calendar/7360857/swimming-
 girls-v-jv-tri-meet-mun-lhs-hob
DTSTART:20241218T000000Z
DTEND:20241218T020000Z
END:VEVENT
END:VCALENDAR
