BEGIN:VCALENDAR
VERSION:2.0
PRODID:SchoolNow
CALSCALE:GREGORIAN
BEGIN:VEVENT
UID:8e322aa6-d9e9-11ef-b7b0-0a58a9feac02
DTSTAMP:20250124T002420Z
SUMMARY:Swimming (Girls V/JV) - Griffith Senior High School
LOCATION:Lowell Senior High School
URL;VALUE=URI:https://www.tricreek.k12.in.us/lhs/calendar/7360859/swimming-
 girls-v-jv-griffith-senior-high-school
DTSTART:20251125T233000Z
DTEND:20251126T013000Z
END:VEVENT
END:VCALENDAR
