BEGIN:VCALENDAR
VERSION:2.0
PRODID:SchoolNow
CALSCALE:GREGORIAN
BEGIN:VEVENT
UID:8e322b78-d9e9-11ef-9d0e-0a58a9feac02
DTSTAMP:20250124T002420Z
SUMMARY:Swimming (Girls V/JV) - Twin Lakes Senior High School
LOCATION:Lowell Senior High School
URL;VALUE=URI:https://www.tricreek.k12.in.us/lhs/calendar/7360860/swimming-
 girls-v-jv-twin-lakes-senior-high-school
DTSTART:20260106T233000Z
DTEND:20260107T013000Z
END:VEVENT
END:VCALENDAR
