BEGIN:VCALENDAR
VERSION:2.0
PRODID:SchoolNow
CALSCALE:GREGORIAN
BEGIN:VEVENT
UID:8e322c68-d9e9-11ef-abdb-0a58a9feac02
DTSTAMP:20250124T002420Z
SUMMARY:CANCELED - Swimming (Girls V/JV) @ Knox Community High School
LOCATION:Knox Community High School
URL;VALUE=URI:https://www.tricreek.k12.in.us/lhs/calendar/7360861/canceled-
 swimming-girls-v-jv-knox-community-high-school
DTSTART:20250121T233000Z
DTEND:20250122T013000Z
END:VEVENT
END:VCALENDAR
