BEGIN:VCALENDAR
VERSION:2.0
PRODID:SchoolNow
CALSCALE:GREGORIAN
BEGIN:VEVENT
UID:8e322e16-d9e9-11ef-8c41-0a58a9feac02
DTSTAMP:20250124T002420Z
SUMMARY:Swimming (Girls V/JV) @ Culver Academies
LOCATION:Culver Academies
URL;VALUE=URI:https://www.tricreek.k12.in.us/lhs/calendar/7360863/swimming-
 girls-v-jv-culver-academies
DTSTART:20241219T233000Z
DTEND:20241220T013000Z
END:VEVENT
END:VCALENDAR
