BEGIN:VCALENDAR
VERSION:2.0
PRODID:SchoolNow
CALSCALE:GREGORIAN
BEGIN:VEVENT
UID:8e322ee8-d9e9-11ef-9101-0a58a9feac02
DTSTAMP:20250124T002420Z
SUMMARY:Swimming (Girls V/JV) @ Hobart Dive Invite
LOCATION:Hobart High School
URL;VALUE=URI:https://www.tricreek.k12.in.us/lhs/calendar/7360864/swimming-
 girls-v-jv-hobart-dive-invite
DTSTART:20260110T150027Z
DTEND:20260110T170027Z
END:VEVENT
END:VCALENDAR
