BEGIN:VCALENDAR
VERSION:2.0
PRODID:SchoolNow
CALSCALE:GREGORIAN
BEGIN:VEVENT
UID:8e322fba-d9e9-11ef-a551-0a58a9feac02
DTSTAMP:20250124T002420Z
SUMMARY:Swimming (Girls V/JV) @ Twin Lakes Senior High School
LOCATION:Twin Lakes Senior High School
URL;VALUE=URI:https://www.tricreek.k12.in.us/lhs/calendar/7360865/swimming-
 girls-v-jv-twin-lakes-senior-high-school
DTSTART:20250107T233000Z
DTEND:20250108T013000Z
END:VEVENT
END:VCALENDAR
