BEGIN:VCALENDAR
VERSION:2.0
PRODID:SchoolNow
CALSCALE:GREGORIAN
BEGIN:VEVENT
UID:8e32308c-d9e9-11ef-8cc4-0a58a9feac02
DTSTAMP:20250124T002420Z
SUMMARY:Soccer (Girls JV) @ Merrillville High School
LOCATION:Merrillville High School
URL;VALUE=URI:https://www.tricreek.k12.in.us/lhs/calendar/7360866/soccer-gi
 rls-jv-merrillville-high-school
DTSTART:20250927T150000Z
DTEND:20250927T170000Z
END:VEVENT
END:VCALENDAR
