BEGIN:VCALENDAR
VERSION:2.0
PRODID:SchoolNow
CALSCALE:GREGORIAN
BEGIN:VEVENT
UID:8e323168-d9e9-11ef-8e86-0a58a9feac02
DTSTAMP:20250124T002420Z
SUMMARY:Soccer (Girls JV) - Lake Central High School
LOCATION:Lowell Senior High School
URL;VALUE=URI:https://www.tricreek.k12.in.us/lhs/calendar/7360867/soccer-gi
 rls-jv-lake-central-high-school
DTSTART:20241003T220000Z
DTEND:20241004T000000Z
END:VEVENT
END:VCALENDAR
