BEGIN:VCALENDAR
VERSION:2.0
PRODID:SchoolNow
CALSCALE:GREGORIAN
BEGIN:VEVENT
UID:8e323244-d9e9-11ef-bded-0a58a9feac02
DTSTAMP:20250124T002420Z
SUMMARY:Soccer (Girls JV) @ William Henry Harrison High School - West Lafay
 ette
LOCATION:William Henry Harrison High School - West Lafayette
URL;VALUE=URI:https://www.tricreek.k12.in.us/lhs/calendar/7360868/soccer-gi
 rls-jv-william-henry-harrison-high-school-west-lafayette
DTSTART:20250922T220007Z
DTEND:20250923T000007Z
END:VEVENT
END:VCALENDAR
