BEGIN:VCALENDAR
VERSION:2.0
PRODID:SchoolNow
CALSCALE:GREGORIAN
BEGIN:VEVENT
UID:8e3233e8-d9e9-11ef-a37a-0a58a9feac02
DTSTAMP:20250124T002420Z
SUMMARY:Soccer (Girls JV) @ Hobart High School
LOCATION:Hobart High School
URL;VALUE=URI:https://www.tricreek.k12.in.us/lhs/calendar/7360870/soccer-gi
 rls-jv-hobart-high-school
DTSTART:20250904T220000Z
DTEND:20250905T000000Z
END:VEVENT
END:VCALENDAR
