BEGIN:VCALENDAR
VERSION:2.0
PRODID:SchoolNow
CALSCALE:GREGORIAN
BEGIN:VEVENT
UID:8e3234d8-d9e9-11ef-b9ef-0a58a9feac02
DTSTAMP:20250124T002420Z
SUMMARY:Soccer (Girls JV) - Munster High School
LOCATION:Lowell Senior High School
URL;VALUE=URI:https://www.tricreek.k12.in.us/lhs/calendar/7360871/soccer-gi
 rls-jv-munster-high-school
DTSTART:20250826T220000Z
DTEND:20250827T000000Z
END:VEVENT
END:VCALENDAR
