BEGIN:VCALENDAR
VERSION:2.0
PRODID:SchoolNow
CALSCALE:GREGORIAN
BEGIN:VEVENT
UID:8e3235aa-d9e9-11ef-8666-0a58a9feac02
DTSTAMP:20250124T002420Z
SUMMARY:Soccer (Girls JV) - Andrean High School
LOCATION:Lowell Senior High School
URL;VALUE=URI:https://www.tricreek.k12.in.us/lhs/calendar/7360872/soccer-gi
 rls-jv-andrean-high-school
DTSTART:20250923T220000Z
DTEND:20250924T000000Z
END:VEVENT
END:VCALENDAR
