BEGIN:VCALENDAR
VERSION:2.0
PRODID:SchoolNow
CALSCALE:GREGORIAN
BEGIN:VEVENT
UID:8e3237b2-d9e9-11ef-8698-0a58a9feac02
DTSTAMP:20250124T002420Z
SUMMARY:Soccer (Girls JV) - Griffith Senior High School
LOCATION:Lowell Senior High School
URL;VALUE=URI:https://www.tricreek.k12.in.us/lhs/calendar/7360873/soccer-gi
 rls-jv-griffith-senior-high-school
DTSTART:20250930T220051Z
DTEND:20251001T000051Z
END:VEVENT
END:VCALENDAR
