BEGIN:VCALENDAR
VERSION:2.0
PRODID:SchoolNow
CALSCALE:GREGORIAN
BEGIN:VEVENT
UID:8e323a14-d9e9-11ef-9bc9-0a58a9feac02
DTSTAMP:20250124T002420Z
SUMMARY:Soccer (Girls JV) - Merrillville High School
LOCATION:Lowell Senior High School
URL;VALUE=URI:https://www.tricreek.k12.in.us/lhs/calendar/7360875/soccer-gi
 rls-jv-merrillville-high-school
DTSTART:20240928T153000Z
DTEND:20240928T173000Z
END:VEVENT
END:VCALENDAR
