BEGIN:VCALENDAR
VERSION:2.0
PRODID:SchoolNow
CALSCALE:GREGORIAN
BEGIN:VEVENT
UID:8e323d20-d9e9-11ef-bddf-0a58a9feac02
DTSTAMP:20250124T002420Z
SUMMARY:Soccer (Girls JV) - Hammond Central
LOCATION:Lowell Senior High School
URL;VALUE=URI:https://www.tricreek.k12.in.us/lhs/calendar/7360876/soccer-gi
 rls-jv-hammond-central
DTSTART:20250902T220037Z
DTEND:20250903T000037Z
END:VEVENT
END:VCALENDAR
