BEGIN:VCALENDAR
VERSION:2.0
PRODID:SchoolNow
CALSCALE:GREGORIAN
BEGIN:VEVENT
UID:8e323f00-d9e9-11ef-baf4-0a58a9feac02
DTSTAMP:20250124T002420Z
SUMMARY:CANCELED - Soccer (Girls JV) @ Andrean High School
LOCATION:Andrean High School
URL;VALUE=URI:https://www.tricreek.k12.in.us/lhs/calendar/7360878/canceled-
 soccer-girls-jv-andrean-high-school
DTSTART:20240924T220000Z
DTEND:20240925T000000Z
END:VEVENT
END:VCALENDAR
