BEGIN:VCALENDAR
VERSION:2.0
PRODID:SchoolNow
CALSCALE:GREGORIAN
BEGIN:VEVENT
UID:8e3240c2-d9e9-11ef-89a2-0a58a9feac02
DTSTAMP:20250124T002420Z
SUMMARY:Soccer (Girls JV) - Highland High School
LOCATION:Lowell Senior High School
URL;VALUE=URI:https://www.tricreek.k12.in.us/lhs/calendar/7360880/soccer-gi
 rls-jv-highland-high-school
DTSTART:20250916T220000Z
DTEND:20250917T000000Z
END:VEVENT
END:VCALENDAR
