BEGIN:VCALENDAR
VERSION:2.0
PRODID:SchoolNow
CALSCALE:GREGORIAN
BEGIN:VEVENT
UID:8e3241a8-d9e9-11ef-a83f-0a58a9feac02
DTSTAMP:20250124T002420Z
SUMMARY:Soccer (Girls JV) @ Bishop Noll Institute School
LOCATION:Bishop Noll Institute School
URL;VALUE=URI:https://www.tricreek.k12.in.us/lhs/calendar/7360881/soccer-gi
 rls-jv-bishop-noll-institute-school
DTSTART:20250823T150038Z
DTEND:20250823T170038Z
END:VEVENT
END:VCALENDAR
