BEGIN:VCALENDAR
VERSION:2.0
PRODID:SchoolNow
CALSCALE:GREGORIAN
BEGIN:VEVENT
UID:8e324284-d9e9-11ef-8b0c-0a58a9feac02
DTSTAMP:20250124T002420Z
SUMMARY:Wrestling (Girls V) @ IHSAA State Finals
LOCATION:Indianapolis
URL;VALUE=URI:https://www.tricreek.k12.in.us/lhs/calendar/7360882/wrestling
 -girls-v-ihsaa-state-finals
DTSTART:20250117T150053Z
DTEND:20250117T170053Z
END:VEVENT
END:VCALENDAR
