BEGIN:VCALENDAR
VERSION:2.0
PRODID:SchoolNow
CALSCALE:GREGORIAN
BEGIN:VEVENT
UID:8e324374-d9e9-11ef-a47d-0a58a9feac02
DTSTAMP:20250124T002420Z
SUMMARY:Wrestling (Girls V) - Highland High School
LOCATION:Lowell Senior High School
URL;VALUE=URI:https://www.tricreek.k12.in.us/lhs/calendar/7360883/wrestling
 -girls-v-highland-high-school
DTSTART:20251218T003020Z
DTEND:20251218T023020Z
END:VEVENT
END:VCALENDAR
